BEGIN:VCALENDAR
VERSION:2.0
PRODID:icalendar-ruby
CALSCALE:GREGORIAN
METHOD:PUBLISH
BEGIN:VEVENT
DTSTAMP:20260425T025414Z
UID:10-1550692@radiuschurch.tithelysetup5.com
DTSTART:20240110T191000Z
DTEND:20240110T201000Z
CLASS:PUBLIC
CREATED:20260424T191420
DESCRIPTION:Every Wednesday
LAST-MODIFIED:20260424T191420
LOCATION:Radius Church/Sanctuary
SUMMARY:12:12 Prayer
URL;VALUE=URI:https://www.radiuschurch.life/events/12-12-prayer/2024-01-10
ATTACH;FILENAME=3.jpg;FMTTYPE=image/jpeg:https://dq5pwpg1q8ru0.cloudfront.n
 et/2025/01/09/22/15/21/987687ed-45e4-40ff-b7a1-2673def4a90f/3.jpg
END:VEVENT
END:VCALENDAR
