BEGIN:VCALENDAR
VERSION:2.0
PRODID:icalendar-ruby
CALSCALE:GREGORIAN
METHOD:PUBLISH
BEGIN:VEVENT
DTSTAMP:20260419T121348Z
UID:322-1498276@radiuschurch.tithelysetup5.com
DTSTART:20260503T144500Z
DTEND:20260503T154500Z
CLASS:PUBLIC
CREATED:20260415T140032
DESCRIPTION:
LAST-MODIFIED:20260415T140032
LOCATION:Radius Church - Room 214
SUMMARY:Baptism Class
URL;VALUE=URI:https://www.radiuschurch.life/events/baptism-class--322/2026-
 05-03
ATTACH;FILENAME=1-2.jpg;FMTTYPE=image/jpeg:https://dq5pwpg1q8ru0.cloudfront
 .net/2026/01/21/18/02/53/62a2f3af-0320-44c2-8065-eb67ac94f4e0/1-2.jpg
END:VEVENT
END:VCALENDAR
