BEGIN:VCALENDAR
VERSION:2.0
PRODID:icalendar-ruby
CALSCALE:GREGORIAN
METHOD:PUBLISH
BEGIN:VEVENT
DTSTAMP:20260419T122107Z
UID:342-1419259@radiuschurch.tithelysetup5.com
DTSTART:20260503T173000Z
DTEND:20260504T060500Z
CLASS:PUBLIC
CREATED:20260401T152151
DESCRIPTION:Help the kids ministry raise money for world missions by puchas
 ing a delicious baked good after service on Sunday\, May 3rd!
LAST-MODIFIED:20260401T152151
LOCATION:Radius Lobby
SUMMARY:BGMC Bake Sale
URL;VALUE=URI:https://www.radiuschurch.life/events/bgmc-bake-sale--342/2026
 -05-03
ATTACH;FILENAME=BGMC-BAKE-SALE-2026.jpg;FMTTYPE=image/jpeg:https://dq5pwpg1
 q8ru0.cloudfront.net/2026/04/01/21/21/50/e411c2b3-bfcb-4d63-b6b1-422451a9e
 e44/BGMC-BAKE-SALE-2026.jpg
END:VEVENT
END:VCALENDAR
