BEGIN:VCALENDAR
VERSION:2.0
PRODID:icalendar-ruby
CALSCALE:GREGORIAN
METHOD:PUBLISH
BEGIN:VEVENT
DTSTAMP:20260419T121545Z
UID:328-1498279@radiuschurch.tithelysetup5.com
DTSTART:20260429T234500Z
DTEND:20260430T020000Z
CLASS:PUBLIC
CREATED:20260415T140807
DESCRIPTION:Join us to learn how you can get more involved at Radius Church
 !\nDinner at 5:45\nSession at 6:30
LAST-MODIFIED:20260415T140807
LOCATION:Radius Church
SUMMARY:Serve 101
URL;VALUE=URI:https://www.radiuschurch.life/events/serve-101/2026-04-29
ATTACH;FILENAME=website-serve-101.jpg;FMTTYPE=image/jpeg:https://dq5pwpg1q8
 ru0.cloudfront.net/2026/04/15/20/08/06/54283922-971a-4a60-983d-e8325facae5
 4/website-serve-101.jpg
END:VEVENT
END:VCALENDAR
